BEGIN:VCALENDAR
VERSION:2.0
PRODID:-//Al-Anon Family Groups - ECPv6.15.20//NONSGML v1.0//EN
CALSCALE:GREGORIAN
METHOD:PUBLISH
X-WR-CALNAME:Al-Anon Family Groups
X-ORIGINAL-URL:https://al-anon.org
X-WR-CALDESC:Events for Al-Anon Family Groups
REFRESH-INTERVAL;VALUE=DURATION:PT1H
X-Robots-Tag:noindex
X-PUBLISHED-TTL:PT1H
BEGIN:VTIMEZONE
TZID:America/Los_Angeles
BEGIN:DAYLIGHT
TZOFFSETFROM:-0800
TZOFFSETTO:-0700
TZNAME:PDT
DTSTART:20250309T100000
END:DAYLIGHT
BEGIN:STANDARD
TZOFFSETFROM:-0700
TZOFFSETTO:-0800
TZNAME:PST
DTSTART:20251102T090000
END:STANDARD
BEGIN:DAYLIGHT
TZOFFSETFROM:-0800
TZOFFSETTO:-0700
TZNAME:PDT
DTSTART:20260308T100000
END:DAYLIGHT
BEGIN:STANDARD
TZOFFSETFROM:-0700
TZOFFSETTO:-0800
TZNAME:PST
DTSTART:20261101T090000
END:STANDARD
BEGIN:DAYLIGHT
TZOFFSETFROM:-0800
TZOFFSETTO:-0700
TZNAME:PDT
DTSTART:20270314T100000
END:DAYLIGHT
BEGIN:STANDARD
TZOFFSETFROM:-0700
TZOFFSETTO:-0800
TZNAME:PST
DTSTART:20271107T090000
END:STANDARD
END:VTIMEZONE
BEGIN:VTIMEZONE
TZID:America/New_York
BEGIN:DAYLIGHT
TZOFFSETFROM:-0500
TZOFFSETTO:-0400
TZNAME:EDT
DTSTART:20250309T070000
END:DAYLIGHT
BEGIN:STANDARD
TZOFFSETFROM:-0400
TZOFFSETTO:-0500
TZNAME:EST
DTSTART:20251102T060000
END:STANDARD
BEGIN:DAYLIGHT
TZOFFSETFROM:-0500
TZOFFSETTO:-0400
TZNAME:EDT
DTSTART:20260308T070000
END:DAYLIGHT
BEGIN:STANDARD
TZOFFSETFROM:-0400
TZOFFSETTO:-0500
TZNAME:EST
DTSTART:20261101T060000
END:STANDARD
BEGIN:DAYLIGHT
TZOFFSETFROM:-0500
TZOFFSETTO:-0400
TZNAME:EDT
DTSTART:20270314T070000
END:DAYLIGHT
BEGIN:STANDARD
TZOFFSETFROM:-0400
TZOFFSETTO:-0500
TZNAME:EST
DTSTART:20271107T060000
END:STANDARD
END:VTIMEZONE
BEGIN:VEVENT
DTSTART;TZID=America/Los_Angeles:20260627T090000
DTEND;TZID=America/Los_Angeles:20260627T163000
DTSTAMP:20260423T062216
CREATED:20260422T194857Z
LAST-MODIFIED:20260422T195238Z
UID:10000162-1782550800-1782577800@al-anon.org
SUMMARY:2026 Surrender to Soar Alathon\, California\, USA
DESCRIPTION:Hosted By: California South\n2026 Surrender to Soar- District 33 Alathon-Hybrid\n\nIn person:2335 So. Diamond Bar Blvd\, Diamond Bar\, Ca91765 \n\nZoom info: contact-District33alathon chair26@gmail.com
URL:https://al-anon.org/events/2026-surrender-to-soar-alathon-california-usa/
CATEGORIES:Al-Anon event
ATTACH;FMTTYPE=image/jpeg:https://al-anon.org/wp-content/uploads/4D0686F0-_3164.jpg
END:VEVENT
BEGIN:VEVENT
DTSTART;TZID=America/New_York:20260627T120000
DTEND;TZID=America/New_York:20260627T160000
DTSTAMP:20260423T062216
CREATED:20260219T134853Z
LAST-MODIFIED:20260219T134853Z
UID:10000152-1782561600-1782576000@al-anon.org
SUMMARY:Virtual Al-Anon Workshop: Surrender\, Sanity\, Serenity\, New York\, USA
DESCRIPTION:When we let go of the losing battle we have been waging with this disease\, we surrender. Our workshop explores how surrender can restore us to sanity and serenity. \nProgram Schedule\n12pm Letting go of forcing solutions\n1 pm Connecting to a spiritual solution\n2 pm Experiencing contentment (and even happiness)\n3 pm Letting understanding\, love\, and peace grow in us \nZoom Meeting Details\nMeeting ID: 897 1551 8773\nPasscode: 069726\nDial In: +1 929-205-6099 + Meeting ID + Passcode \n 
URL:https://al-anon.org/events/virtual-al-anon-workshop-surrender-sanity-serenity-new-york-usa/
CATEGORIES:Al-Anon event
ATTACH;FMTTYPE=image/png:https://al-anon.org/wp-content/uploads/WSO-June-2026-SaD-flier.png
END:VEVENT
BEGIN:VEVENT
DTSTART;TZID=America/New_York:20260727T120000
DTEND;TZID=America/New_York:20260727T160000
DTSTAMP:20260423T062216
CREATED:20260326T135908Z
LAST-MODIFIED:20260326T135908Z
UID:10000158-1785153600-1785168000@al-anon.org
SUMMARY:Share-a-Day: Many Voices\, Backgrounds & Cultures Together in Al-Anon\, New York\, USA
DESCRIPTION:Hosted By: New York South Area \nNYC Intergroup presents:\n4 back-to-back speaker meetings with timed shares \nZoom ID: 897 1551 8773\nPasscode: 069726
URL:https://al-anon.org/events/share-a-day-many-voices-backgrounds-cultures-together-in-al-anon-new-york-usa/
CATEGORIES:Al-Anon event
END:VEVENT
END:VCALENDAR