BEGIN:VCALENDAR
VERSION:2.0
PRODID:-//Al-Anon Family Groups - ECPv5.5.0.1//NONSGML v1.0//EN
CALSCALE:GREGORIAN
METHOD:PUBLISH
X-WR-CALNAME:Al-Anon Family Groups
X-ORIGINAL-URL:https://al-anon.org
X-WR-CALDESC:Events for Al-Anon Family Groups
BEGIN:VTIMEZONE
TZID:America/Los_Angeles
BEGIN:DAYLIGHT
TZOFFSETFROM:-0800
TZOFFSETTO:-0700
TZNAME:PDT
DTSTART:20210314T100000
END:DAYLIGHT
BEGIN:STANDARD
TZOFFSETFROM:-0700
TZOFFSETTO:-0800
TZNAME:PST
DTSTART:20211107T090000
END:STANDARD
TZID:America/New_York
BEGIN:DAYLIGHT
TZOFFSETFROM:-0500
TZOFFSETTO:-0400
TZNAME:EDT
DTSTART:20210314T070000
END:DAYLIGHT
BEGIN:STANDARD
TZOFFSETFROM:-0400
TZOFFSETTO:-0500
TZNAME:EST
DTSTART:20211107T060000
END:STANDARD
TZID:America/Denver
BEGIN:DAYLIGHT
TZOFFSETFROM:-0700
TZOFFSETTO:-0600
TZNAME:MDT
DTSTART:20210314T090000
END:DAYLIGHT
BEGIN:STANDARD
TZOFFSETFROM:-0600
TZOFFSETTO:-0700
TZNAME:MST
DTSTART:20211107T080000
END:STANDARD
TZID:America/Chicago
BEGIN:DAYLIGHT
TZOFFSETFROM:-0600
TZOFFSETTO:-0500
TZNAME:CDT
DTSTART:20210314T080000
END:DAYLIGHT
BEGIN:STANDARD
TZOFFSETFROM:-0500
TZOFFSETTO:-0600
TZNAME:CST
DTSTART:20211107T070000
END:STANDARD
END:VTIMEZONE
BEGIN:VEVENT
DTSTART;TZID=America/Los_Angeles:20210401T190000
DTEND;TZID=America/Los_Angeles:20210401T203000
DTSTAMP:20210422T223719
CREATED:20210311T182319Z
LAST-MODIFIED:20210311T205023Z
UID:32057-1617303600-1617309000@al-anon.org
SUMMARY:Turbo Charge Your Recovery
DESCRIPTION:Turbo Charge Your Recovery Workshop Q2 Flyer \nVisit our website at http://al-anon-az.org/turbocharge/
URL:https://al-anon.org/events/turbo-charge-your-recovery-8/2021-04-01/
CATEGORIES:Area Event
END:VEVENT
BEGIN:VEVENT
DTSTART;TZID=America/New_York:20210407T210000
DTEND;TZID=America/New_York:20210407T223000
DTSTAMP:20210422T223719
CREATED:20210405T130743Z
LAST-MODIFIED:20210405T130743Z
UID:32163-1617829200-1617834600@al-anon.org
SUMMARY:Intimacy in Alcoholic Relationships Workshop
DESCRIPTION:Wednesday Workshop Series \nHosted by WA Area – District 13\n  \nIntimacy in Alcoholic Relationships \nA Collection of Al-Anon Personal Stories \n  \nWednesday   6:00-7:30 pm PST \nZoom Meeting ID: 387-493-608 \nPasscode:123456 \nhttps://zoom.us/j/387493608?pwd=MjRUUlJmdUEyaWlWcVl2d1dBeElMdz09
URL:https://al-anon.org/events/intimacy-in-alcoholic-relationships-workshop/2021-04-07/
CATEGORIES:Online
ATTACH;FMTTYPE=image/png:https://al-anon.org/wp-content/uploads/2021-03-18.png
END:VEVENT
BEGIN:VEVENT
DTSTART;VALUE=DATE:20210409
DTEND;VALUE=DATE:20210412
DTSTAMP:20210422T223719
CREATED:20210205T211927Z
LAST-MODIFIED:20210205T212222Z
UID:31485-1617926400-1618185599@al-anon.org
SUMMARY:44th Annual Massachusetts Al-Anon/Alateen Convention with AA Participation
DESCRIPTION:
URL:https://al-anon.org/events/44th-annual-massachusetts-al-anon-alateen-convention-with-aa-participation/
CATEGORIES:Online
END:VEVENT
BEGIN:VEVENT
DTSTART;TZID=America/Denver:20210410T113000
DTEND;TZID=America/Denver:20210410T153000
DTSTAMP:20210422T223719
CREATED:20210406T165833Z
LAST-MODIFIED:20210406T165833Z
UID:32155-1618054200-1618068600@al-anon.org
SUMMARY:Brown Bag Blue Ribbon Luncheon
DESCRIPTION:Brown Bag Blue Ribbon Luncheon\nA Virtual Event to Honor Longtime Al-Anon Members\nFundraising Event for The Al-Anon Denver Area Service Center\nChaired by Jack S. of Solid Foundation AFG\n12-3 p.m. Saturday\, April 10th\, 2021\nTentative Event Schedule\n11:30 a.m.      Room Open\n12:00 p.m.     Opening Remarks\n12:30 p.m.      Speaker: Kellie F.—Denver\, CO\n1:00 p.m.       Step Up Workshop\n2:00 p.m.      Speaker: Carolyn B.— Denver\, CO\n2:30 p.m.      Recovery Count\n3:00 p.m.      Closing Remarks\n3:30 p.m.      Room Closed \nRegister at\nhttps://tiny.one/brl\nFor more information email\nDenver-Al-Anon@ecentral.com
URL:https://al-anon.org/events/brown-bag-blue-ribbon-luncheon/
CATEGORIES:Online
ATTACH;FMTTYPE=image/jpeg:https://al-anon.org/wp-content/uploads/BRL-2021-Flier-.jpg
END:VEVENT
BEGIN:VEVENT
DTSTART;TZID=America/New_York:20210413T100000
DTEND;TZID=America/New_York:20210413T113000
DTSTAMP:20210422T223719
CREATED:20210405T130114Z
LAST-MODIFIED:20210405T130114Z
UID:32177-1618308000-1618313400@al-anon.org
SUMMARY:Earlybirds 52nd Anniversary
DESCRIPTION:3 speaker anniversary meeting: Al-Anon\, AAC & AA speakers. Open meeting\, all are welcome. \nMeeting ID 818 23752281  Passcode 730422 \n 
URL:https://al-anon.org/events/earlybirds-52nd-anniversary/
CATEGORIES:Area Event
ATTACH;FMTTYPE=image/jpeg:https://al-anon.org/wp-content/uploads/Earlybirds-52-anni..jpg
END:VEVENT
BEGIN:VEVENT
DTSTART;TZID=America/New_York:20210414T210000
DTEND;TZID=America/New_York:20210414T223000
DTSTAMP:20210422T223719
CREATED:20210405T130747Z
LAST-MODIFIED:20210405T130747Z
UID:32164-1618434000-1618439400@al-anon.org
SUMMARY:Intimacy in Alcoholic Relationships Workshop
DESCRIPTION:Wednesday Workshop Series \nHosted by WA Area – District 13\n  \nIntimacy in Alcoholic Relationships \nA Collection of Al-Anon Personal Stories \n  \nWednesday   6:00-7:30 pm PST \nZoom Meeting ID: 387-493-608 \nPasscode:123456 \nhttps://zoom.us/j/387493608?pwd=MjRUUlJmdUEyaWlWcVl2d1dBeElMdz09
URL:https://al-anon.org/events/intimacy-in-alcoholic-relationships-workshop/2021-04-14/
CATEGORIES:Online
ATTACH;FMTTYPE=image/png:https://al-anon.org/wp-content/uploads/2021-03-18.png
END:VEVENT
BEGIN:VEVENT
DTSTART;TZID=America/Los_Angeles:20210417T100000
DTEND;TZID=America/Los_Angeles:20210417T113000
DTSTAMP:20210422T223719
CREATED:20210311T182742Z
LAST-MODIFIED:20210311T201336Z
UID:32061-1618653600-1618659000@al-anon.org
SUMMARY:Turbo Charge Your Recovery
DESCRIPTION:Turbo Charge Your Recovery Workshop Q3 Flyer \nVisit our website
URL:https://al-anon.org/events/turbo-charge-your-recovery-9/2021-04-17/
CATEGORIES:Area Event
END:VEVENT
BEGIN:VEVENT
DTSTART;TZID=America/New_York:20210421T210000
DTEND;TZID=America/New_York:20210421T223000
DTSTAMP:20210422T223719
CREATED:20210405T130754Z
LAST-MODIFIED:20210405T130754Z
UID:32165-1619038800-1619044200@al-anon.org
SUMMARY:Intimacy in Alcoholic Relationships Workshop
DESCRIPTION:Wednesday Workshop Series \nHosted by WA Area – District 13\n  \nIntimacy in Alcoholic Relationships \nA Collection of Al-Anon Personal Stories \n  \nWednesday   6:00-7:30 pm PST \nZoom Meeting ID: 387-493-608 \nPasscode:123456 \nhttps://zoom.us/j/387493608?pwd=MjRUUlJmdUEyaWlWcVl2d1dBeElMdz09
URL:https://al-anon.org/events/intimacy-in-alcoholic-relationships-workshop/2021-04-21/
CATEGORIES:Online
ATTACH;FMTTYPE=image/png:https://al-anon.org/wp-content/uploads/2021-03-18.png
END:VEVENT
BEGIN:VEVENT
DTSTART;TZID=America/New_York:20210428T210000
DTEND;TZID=America/New_York:20210428T223000
DTSTAMP:20210422T223719
CREATED:20210405T130802Z
LAST-MODIFIED:20210405T130802Z
UID:32166-1619643600-1619649000@al-anon.org
SUMMARY:Intimacy in Alcoholic Relationships Workshop
DESCRIPTION:Wednesday Workshop Series \nHosted by WA Area – District 13\n  \nIntimacy in Alcoholic Relationships \nA Collection of Al-Anon Personal Stories \n  \nWednesday   6:00-7:30 pm PST \nZoom Meeting ID: 387-493-608 \nPasscode:123456 \nhttps://zoom.us/j/387493608?pwd=MjRUUlJmdUEyaWlWcVl2d1dBeElMdz09
URL:https://al-anon.org/events/intimacy-in-alcoholic-relationships-workshop/2021-04-28/
CATEGORIES:Online
ATTACH;FMTTYPE=image/png:https://al-anon.org/wp-content/uploads/2021-03-18.png
END:VEVENT
BEGIN:VEVENT
DTSTART;TZID=America/Chicago:20210429T190000
DTEND;TZID=America/Chicago:20210429T203000
DTSTAMP:20210422T223719
CREATED:20210405T132918Z
LAST-MODIFIED:20210405T132918Z
UID:32144-1619722800-1619728200@al-anon.org
SUMMARY:Spring Fling on Self-Care
DESCRIPTION:District 8\, Cedar Rapids\, Iowa\, is holding its annual Spring Fling via Zoom.  We will be having segments on Good Sleep\, Self-Care and Meditation. \nJoin Zoom Meeting \nhttps://us02web.zoom.us/j/85689700322?pwd=NnJoU0Zyb1ZsSVBqNW1tVmpLaW14QT09 \nMeeting ID: 856 8970 0322 \nPasscode: 507545 \nOR \nDial IN: \n        +1 312 626 6799 \nMeeting ID: 856 8970 0322 \nPasscode: 507545 \nFREE WILL DONATIONS ACCEPTED AT PAYPAL: https://paypal.me/District8AFG?locale.x=en_US
URL:https://al-anon.org/events/spring-fling-on-self-care/
CATEGORIES:Online
ATTACH;FMTTYPE=image/jpeg:https://al-anon.org/wp-content/uploads/Spring.jpg
END:VEVENT
END:VCALENDAR